BEGIN:VCALENDAR
VERSION:2.0
PRODID:-//Command Canine Services - ECPv6.15.18//NONSGML v1.0//EN
CALSCALE:GREGORIAN
METHOD:PUBLISH
X-WR-CALNAME:Command Canine Services
X-ORIGINAL-URL:https://bangui.profreed.com
X-WR-CALDESC:Events for Command Canine Services
REFRESH-INTERVAL;VALUE=DURATION:PT1H
X-Robots-Tag:noindex
X-PUBLISHED-TTL:PT1H
BEGIN:VTIMEZONE
TZID:America/Los_Angeles
BEGIN:DAYLIGHT
TZOFFSETFROM:-0800
TZOFFSETTO:-0700
TZNAME:PDT
DTSTART:20250309T100000
END:DAYLIGHT
BEGIN:STANDARD
TZOFFSETFROM:-0700
TZOFFSETTO:-0800
TZNAME:PST
DTSTART:20251102T090000
END:STANDARD
BEGIN:DAYLIGHT
TZOFFSETFROM:-0800
TZOFFSETTO:-0700
TZNAME:PDT
DTSTART:20260308T100000
END:DAYLIGHT
BEGIN:STANDARD
TZOFFSETFROM:-0700
TZOFFSETTO:-0800
TZNAME:PST
DTSTART:20261101T090000
END:STANDARD
BEGIN:DAYLIGHT
TZOFFSETFROM:-0800
TZOFFSETTO:-0700
TZNAME:PDT
DTSTART:20270314T100000
END:DAYLIGHT
BEGIN:STANDARD
TZOFFSETFROM:-0700
TZOFFSETTO:-0800
TZNAME:PST
DTSTART:20271107T090000
END:STANDARD
END:VTIMEZONE
BEGIN:VEVENT
DTSTART;TZID=America/Los_Angeles:20260504T090000
DTEND;TZID=America/Los_Angeles:20260529T120000
DTSTAMP:20260422T205340
CREATED:20260405T065547Z
LAST-MODIFIED:20260405T065557Z
UID:242-1777885200-1780056000@bangui.profreed.com
SUMMARY:Puppy Bootcamp
DESCRIPTION:Event Type: 4 Week Program \nDates: Monday\, Wednesday & Friday from 9:00am to 12:00pm through May 4\,2026 to May 29\, 21026 \nPrice: 250 \nGroup Size: 5-10 Dogs \nDescription\nBuild the foundation your dog will rely on for life. This program focuses on developing engagement and early obedience while preventing behavioral issues before they being. Perfect for new puppy owners who wants there dog to understand the basics. \nWhat Is Included\n\nSit\, down\, place and leash introduction\nEngagement training\nProper Socialization to people\, dogs and environments\nCrate Training\nBite inhibition\nAccess to AI video feedback (learn how to submit training clips)\n\nWhy It Matters\nMost behavioral problems start early on\, this program ensures your puppy learns how to think and not just react. It will foster a calm environment where you and your pup can learn together with other newcomers. \n 
URL:https://bangui.profreed.com/event/puppy-foundations-bootcamp/
END:VEVENT
BEGIN:VEVENT
DTSTART;TZID=America/Los_Angeles:20260517T083000
DTEND;TZID=America/Los_Angeles:20260517T103000
DTSTAMP:20260422T205340
CREATED:20260405T071346Z
LAST-MODIFIED:20260405T071346Z
UID:250-1779006600-1779013800@bangui.profreed.com
SUMMARY:Pack Walk & Socialization Day
DESCRIPTION:Event Type: 1-2 Hour Group Session \nPrice Range: 15 \nGroup Size: 8-15 Dogs \nLocation: Grand Park Trail \nDescription\nA structured group walk designed to improve your dog’s behavior\, and calmness in real-world environments. This is not a dog park or free-play session. Instead dogs are expected to remain controlled and engaged with their handler throughout the walk. \nWhat is Included\n\nProper leash walking techniques\nBuilding engagement durning movement\nCorrecting pulling\, lunging and overexcitement\nReal-time coaching and handler guidance\n\nWhy it Matters\nCreating a dog that is reliable not just at home but in public is an important thing as a dog owner. Therefore this allows them to practice with handler control. \nWhat to Bring\n\nStandard Leash (no retractable)\nTraining Collar (if using)\nTreats or rewards items (optional)\nWater\nComfy Shoes
URL:https://bangui.profreed.com/event/pack-walk-socialization-day/
END:VEVENT
BEGIN:VEVENT
DTSTART;TZID=America/Los_Angeles:20260521T100000
DTEND;TZID=America/Los_Angeles:20260521T160000
DTSTAMP:20260422T205340
CREATED:20260405T070335Z
LAST-MODIFIED:20260405T070335Z
UID:247-1779357600-1779379200@bangui.profreed.com
SUMMARY:Protection & Control WorkShop
DESCRIPTION:Event Type: 1 Day Intensive Workshop \nPrice Range: 300 \nGroup Size: 6 Dogs \nDescription\nThis workshop focuses on developing controlled power. Your dog will learn how to channel drive into obedience and reliable performance under pressure. Ideal for working dogs\, and protection prospects. \nWhat Is Included\n\nDrive Building and Channeling\nBite development basics\nOut command\nProper use of equipment (leash\, sleeve\, place board)\n\nWhy it Matters\nA powerful dog without control is a liability. This training creates a dog that is \n\nConfident but stable\nDriven but obedient\nProtective but clear-headed\n\n 
URL:https://bangui.profreed.com/event/protection-control-workshop/
END:VEVENT
END:VCALENDAR